BEGIN:VCALENDAR
PRODID:-//Microsoft Corporation//Outlook 12.0 MIMEDIR//EN
VERSION:2.0
CALSCALE:GREGORIAN
BEGIN:VEVENT
UID: 6fbcdb49-3db4-469d-86f0-3d9b1764d879
SUMMARY:G2L õppekäik TalTechi
DTSTAMP:20241108T120000
DTSTART:20241108T120000
DTEND:20241108T143000
LOCATION:
DESCRIPTION: <p>Teema: Geograafia seos energiatõhusate hoonetega.</p><p><strong>Link: </strong>https://mg.edu.ee/et/sundmuste-kalender/g2l-oppekaik-taltechi</p><p><strong>Hind: </strong></p>
STATUS:CONFIRMED
SEQUENCE:3
X-ALT-DESC;FMTTYPE=text/html:<p>Teema: Geograafia seos energiatõhusate hoonetega.</p><p><strong>Link: </strong>https://mg.edu.ee/et/sundmuste-kalender/g2l-oppekaik-taltechi</p><p><strong>Hind: </strong></p>
X-MICROSOFT-CDO-BUSYSTATUS:OOF
X-MICROSOFT-CDO-IMPORTANCE:1
X-MICROSOFT-DISALLOW-COUNTER:FALSE
X-MS-OLK-ALLOWEXTERNCHECK:TRUE
X-MS-OLK-CONFTYPE:0
X-MICROSOFT-CDO-ALLDAYEVENT:
X-MICROSOFT-MSNCALENDAR-ALLDAYEVENT:
END:VEVENT
END:VCALENDAR