BEGIN:VCALENDAR
PRODID:-//Microsoft Corporation//Outlook 12.0 MIMEDIR//EN
VERSION:2.0
CALSCALE:GREGORIAN
BEGIN:VEVENT
UID: b78a0600-0fb2-4eb4-b484-5697df026390
SUMMARY:Eelkooli pidulik lõpetamine kooli aulas (Keskuse 18)
DTSTAMP:20250429T170000
DTSTART:20250429T170000
DTEND:20250429T180000
LOCATION:Tallinna Mustamäe Gümnaasium
DESCRIPTION: <p><strong>Link: </strong>https://mg.edu.ee/et/sundmuste-kalender/eelkooli-pidulik-lopetamine-kooli-aulas-keskuse-18-0</p><p><strong>Hind: </strong></p>
STATUS:CONFIRMED
SEQUENCE:3
X-ALT-DESC;FMTTYPE=text/html:<p><strong>Link: </strong>https://mg.edu.ee/et/sundmuste-kalender/eelkooli-pidulik-lopetamine-kooli-aulas-keskuse-18-0</p><p><strong>Hind: </strong></p>
X-MICROSOFT-CDO-BUSYSTATUS:OOF
X-MICROSOFT-CDO-IMPORTANCE:1
X-MICROSOFT-DISALLOW-COUNTER:FALSE
X-MS-OLK-ALLOWEXTERNCHECK:TRUE
X-MS-OLK-CONFTYPE:0
X-MICROSOFT-CDO-ALLDAYEVENT:
X-MICROSOFT-MSNCALENDAR-ALLDAYEVENT:
END:VEVENT
END:VCALENDAR