BEGIN:VCALENDAR
PRODID:-//Microsoft Corporation//Outlook 12.0 MIMEDIR//EN
VERSION:2.0
CALSCALE:GREGORIAN
BEGIN:VEVENT
UID: 98395eea-d154-40b1-a7c4-d6e037f12442
SUMMARY:9.a klassi lapsevanemate koosolek
DTSTAMP:20240912T170000
DTSTART:20240912T170000
DTEND:20240912T180000
LOCATION:Ruum 304
DESCRIPTION: <p><strong>Link: </strong>https://mg.edu.ee/et/sundmuste-kalender/9a-klassi-lapsevanemate-koosolek</p><p><strong>Hind: </strong></p>
STATUS:CONFIRMED
SEQUENCE:3
X-ALT-DESC;FMTTYPE=text/html:<p><strong>Link: </strong>https://mg.edu.ee/et/sundmuste-kalender/9a-klassi-lapsevanemate-koosolek</p><p><strong>Hind: </strong></p>
X-MICROSOFT-CDO-BUSYSTATUS:OOF
X-MICROSOFT-CDO-IMPORTANCE:1
X-MICROSOFT-DISALLOW-COUNTER:FALSE
X-MS-OLK-ALLOWEXTERNCHECK:TRUE
X-MS-OLK-CONFTYPE:0
X-MICROSOFT-CDO-ALLDAYEVENT:
X-MICROSOFT-MSNCALENDAR-ALLDAYEVENT:
END:VEVENT
END:VCALENDAR