BEGIN:VCALENDAR
PRODID:-//Microsoft Corporation//Outlook 12.0 MIMEDIR//EN
VERSION:2.0
CALSCALE:GREGORIAN
BEGIN:VEVENT
UID: bdfa13a5-afc7-4b55-972e-419d2100da2e
SUMMARY:2.a klass Tervisemuuseumis
DTSTAMP:20240214
DTSTART:20240214
DTEND:20240215
DURATION:P1D
LOCATION:
DESCRIPTION: <p><strong>Link: </strong>https://mg.edu.ee/et/sundmuste-kalender/2a-klass-tervisemuuseumis</p><p><strong>Hind: </strong></p>
STATUS:CONFIRMED
SEQUENCE:3
X-ALT-DESC;FMTTYPE=text/html:<p><strong>Link: </strong>https://mg.edu.ee/et/sundmuste-kalender/2a-klass-tervisemuuseumis</p><p><strong>Hind: </strong></p>
X-MICROSOFT-CDO-BUSYSTATUS:OOF
X-MICROSOFT-CDO-IMPORTANCE:1
X-MICROSOFT-DISALLOW-COUNTER:FALSE
X-MS-OLK-ALLOWEXTERNCHECK:TRUE
X-MS-OLK-CONFTYPE:0
X-MICROSOFT-CDO-ALLDAYEVENT:1
X-MICROSOFT-MSNCALENDAR-ALLDAYEVENT:1
END:VEVENT
END:VCALENDAR